BEGIN:VCALENDAR
VERSION:2.0
PRODID:-//Grayson County Tourism - ECPv6.15.20//NONSGML v1.0//EN
CALSCALE:GREGORIAN
METHOD:PUBLISH
X-ORIGINAL-URL:https://visitgrayson.com
X-WR-CALDESC:Events for Grayson County Tourism
REFRESH-INTERVAL;VALUE=DURATION:PT1H
X-Robots-Tag:noindex
X-PUBLISHED-TTL:PT1H
BEGIN:VTIMEZONE
TZID:America/Kentucky/Louisville
BEGIN:DAYLIGHT
TZOFFSETFROM:-0500
TZOFFSETTO:-0400
TZNAME:EDT
DTSTART:20220313T070000
END:DAYLIGHT
BEGIN:STANDARD
TZOFFSETFROM:-0400
TZOFFSETTO:-0500
TZNAME:EST
DTSTART:20221106T060000
END:STANDARD
BEGIN:DAYLIGHT
TZOFFSETFROM:-0500
TZOFFSETTO:-0400
TZNAME:EDT
DTSTART:20230312T070000
END:DAYLIGHT
BEGIN:STANDARD
TZOFFSETFROM:-0400
TZOFFSETTO:-0500
TZNAME:EST
DTSTART:20231105T060000
END:STANDARD
BEGIN:DAYLIGHT
TZOFFSETFROM:-0500
TZOFFSETTO:-0400
TZNAME:EDT
DTSTART:20240310T070000
END:DAYLIGHT
BEGIN:STANDARD
TZOFFSETFROM:-0400
TZOFFSETTO:-0500
TZNAME:EST
DTSTART:20241103T060000
END:STANDARD
BEGIN:DAYLIGHT
TZOFFSETFROM:-0500
TZOFFSETTO:-0400
TZNAME:EDT
DTSTART:20250309T070000
END:DAYLIGHT
BEGIN:STANDARD
TZOFFSETFROM:-0400
TZOFFSETTO:-0500
TZNAME:EST
DTSTART:20251102T060000
END:STANDARD
BEGIN:DAYLIGHT
TZOFFSETFROM:-0500
TZOFFSETTO:-0400
TZNAME:EDT
DTSTART:20260308T070000
END:DAYLIGHT
BEGIN:STANDARD
TZOFFSETFROM:-0400
TZOFFSETTO:-0500
TZNAME:EST
DTSTART:20261101T060000
END:STANDARD
BEGIN:DAYLIGHT
TZOFFSETFROM:-0500
TZOFFSETTO:-0400
TZNAME:EDT
DTSTART:20270314T070000
END:DAYLIGHT
BEGIN:STANDARD
TZOFFSETFROM:-0400
TZOFFSETTO:-0500
TZNAME:EST
DTSTART:20271107T060000
END:STANDARD
END:VTIMEZONE
BEGIN:VEVENT
DTSTART;TZID=America/Kentucky/Louisville:20260417T180000
DTEND;TZID=America/Kentucky/Louisville:20260417T203000
DTSTAMP:20260422T140608
CREATED:20260117T122119Z
LAST-MODIFIED:20260417T154923Z
UID:10000384-1776448800-1776457800@visitgrayson.com
SUMMARY:GC Bluegrass Opry
DESCRIPTION:Grayson Co. Bluegrass Opry has free shows on the 3rd Friday night of each month at 6 PM at 125 East White Oak Street in Leitchfield\, KY.  For additional information on show dates visit our facebook page  https://www.facebook.com/Grayson-County-Bluegrass-Opry-124826100920843        \n \n 
URL:https://visitgrayson.com/event/gc-bluegrass-opry-30/
LOCATION:Old Courthouse\, 125 East Oak Street\, Leitchfield\, KY\, 42754\, United States
CATEGORIES:City,Tourism
ATTACH;FMTTYPE=image/jpeg:https://visitgrayson.com/wp-content/uploads/2023/11/Opry-wMi9yz.tmp_.jpg
END:VEVENT
BEGIN:VEVENT
DTSTART;TZID=America/Kentucky/Louisville:20260320T180000
DTEND;TZID=America/Kentucky/Louisville:20260320T203000
DTSTAMP:20260422T140608
CREATED:20251220T103325Z
LAST-MODIFIED:20260320T144703Z
UID:10000380-1774029600-1774038600@visitgrayson.com
SUMMARY:GC Bluegrass Opry
DESCRIPTION:Grayson Co. Bluegrass Opry has free shows on the 3rd Friday night of each month at 6 PM at 125 East White Oak Street in Leitchfield\, KY.  For additional information on show dates visit our facebook page  https://www.facebook.com/Grayson-County-Bluegrass-Opry-124826100920843        \n \n 
URL:https://visitgrayson.com/event/gc-bluegrass-opry-29/
LOCATION:Old Courthouse\, 125 East Oak Street\, Leitchfield\, KY\, 42754\, United States
CATEGORIES:City,Tourism
ATTACH;FMTTYPE=image/jpeg:https://visitgrayson.com/wp-content/uploads/2023/11/Opry-wMi9yz.tmp_.jpg
END:VEVENT
BEGIN:VEVENT
DTSTART;TZID=America/Kentucky/Louisville:20260220T180000
DTEND;TZID=America/Kentucky/Louisville:20260220T203000
DTSTAMP:20260422T140608
CREATED:20251122T085629Z
LAST-MODIFIED:20260220T133305Z
UID:10000376-1771610400-1771619400@visitgrayson.com
SUMMARY:GC Bluegrass Opry
DESCRIPTION:Grayson Co. Bluegrass Opry has free shows on the 3rd Friday night of each month at 6 PM at 125 East White Oak Street in Leitchfield\, KY.  For additional information on show dates visit our facebook page  https://www.facebook.com/Grayson-County-Bluegrass-Opry-124826100920843        \n \n 
URL:https://visitgrayson.com/event/gc-bluegrass-opry-28/
LOCATION:Old Courthouse\, 125 East Oak Street\, Leitchfield\, KY\, 42754\, United States
CATEGORIES:City,Tourism
ATTACH;FMTTYPE=image/jpeg:https://visitgrayson.com/wp-content/uploads/2023/11/Opry-wMi9yz.tmp_.jpg
END:VEVENT
BEGIN:VEVENT
DTSTART;TZID=America/Kentucky/Louisville:20260116T180000
DTEND;TZID=America/Kentucky/Louisville:20260116T203000
DTSTAMP:20260422T140608
CREATED:20251018T235229Z
LAST-MODIFIED:20260116T121543Z
UID:10000368-1768586400-1768595400@visitgrayson.com
SUMMARY:GC Bluegrass Opry
DESCRIPTION:Grayson Co. Bluegrass Opry has free shows on the 3rd Friday night of each month at 6 PM at 125 East White Oak Street in Leitchfield\, KY.  For additional information on show dates visit our facebook page  https://www.facebook.com/Grayson-County-Bluegrass-Opry-124826100920843        \n \n 
URL:https://visitgrayson.com/event/gc-bluegrass-opry-27/
LOCATION:Old Courthouse\, 125 East Oak Street\, Leitchfield\, KY\, 42754\, United States
CATEGORIES:City,Tourism
ATTACH;FMTTYPE=image/jpeg:https://visitgrayson.com/wp-content/uploads/2023/11/Opry-wMi9yz.tmp_.jpg
END:VEVENT
BEGIN:VEVENT
DTSTART;TZID=America/Kentucky/Louisville:20251219T180000
DTEND;TZID=America/Kentucky/Louisville:20251219T203000
DTSTAMP:20260422T140608
CREATED:20250920T221945Z
LAST-MODIFIED:20251219T103031Z
UID:10000357-1766167200-1766176200@visitgrayson.com
SUMMARY:GC Bluegrass Opry
DESCRIPTION:Grayson Co. Bluegrass Opry has free shows on the 3rd Friday night of each month at 6 PM at 125 East White Oak Street in Leitchfield\, KY.  For additional information on show dates visit our facebook page  https://www.facebook.com/Grayson-County-Bluegrass-Opry-124826100920843        \n \n 
URL:https://visitgrayson.com/event/gc-bluegrass-opry-26/
LOCATION:Old Courthouse\, 125 East Oak Street\, Leitchfield\, KY\, 42754\, United States
CATEGORIES:City,Tourism
ATTACH;FMTTYPE=image/jpeg:https://visitgrayson.com/wp-content/uploads/2023/11/Opry-wMi9yz.tmp_.jpg
END:VEVENT
BEGIN:VEVENT
DTSTART;TZID=America/Kentucky/Louisville:20251121T180000
DTEND;TZID=America/Kentucky/Louisville:20251121T203000
DTSTAMP:20260422T140608
CREATED:20250823T220745Z
LAST-MODIFIED:20251121T085436Z
UID:10000348-1763748000-1763757000@visitgrayson.com
SUMMARY:GC Bluegrass Opry
DESCRIPTION:Grayson Co. Bluegrass Opry has free shows on the 3rd Friday night of each month at 6 PM at 125 East White Oak Street in Leitchfield\, KY.  For additional information on show dates visit our facebook page  https://www.facebook.com/Grayson-County-Bluegrass-Opry-124826100920843        \n \n 
URL:https://visitgrayson.com/event/gc-bluegrass-opry-25/
LOCATION:Old Courthouse\, 125 East Oak Street\, Leitchfield\, KY\, 42754\, United States
CATEGORIES:City,Tourism
ATTACH;FMTTYPE=image/jpeg:https://visitgrayson.com/wp-content/uploads/2023/11/Opry-wMi9yz.tmp_.jpg
END:VEVENT
BEGIN:VEVENT
DTSTART;TZID=America/Kentucky/Louisville:20251017T180000
DTEND;TZID=America/Kentucky/Louisville:20251017T203000
DTSTAMP:20260422T140609
CREATED:20250719T214608Z
LAST-MODIFIED:20251017T234904Z
UID:10000336-1760724000-1760733000@visitgrayson.com
SUMMARY:GC Bluegrass Opry
DESCRIPTION:Grayson Co. Bluegrass Opry has free shows on the 3rd Friday night of each month at 6 PM at 125 East White Oak Street in Leitchfield\, KY.  For additional information on show dates visit our facebook page  https://www.facebook.com/Grayson-County-Bluegrass-Opry-124826100920843        \n \n 
URL:https://visitgrayson.com/event/gc-bluegrass-opry-24/
LOCATION:Old Courthouse\, 125 East Oak Street\, Leitchfield\, KY\, 42754\, United States
CATEGORIES:City,Tourism
ATTACH;FMTTYPE=image/jpeg:https://visitgrayson.com/wp-content/uploads/2023/11/Opry-wMi9yz.tmp_.jpg
END:VEVENT
BEGIN:VEVENT
DTSTART;TZID=America/Kentucky/Louisville:20250919T180000
DTEND;TZID=America/Kentucky/Louisville:20250919T203000
DTSTAMP:20260422T140609
CREATED:20250621T204453Z
LAST-MODIFIED:20250919T221601Z
UID:10000327-1758304800-1758313800@visitgrayson.com
SUMMARY:GC Bluegrass Opry
DESCRIPTION:Grayson Co. Bluegrass Opry has free shows on the 3rd Friday night of each month at 6 PM at 125 East White Oak Street in Leitchfield\, KY.  For additional information on show dates visit our facebook page  https://www.facebook.com/Grayson-County-Bluegrass-Opry-124826100920843        \n \n 
URL:https://visitgrayson.com/event/gc-bluegrass-opry-23/
LOCATION:Old Courthouse\, 125 East Oak Street\, Leitchfield\, KY\, 42754\, United States
CATEGORIES:City,Tourism
ATTACH;FMTTYPE=image/jpeg:https://visitgrayson.com/wp-content/uploads/2023/11/Opry-wMi9yz.tmp_.jpg
END:VEVENT
BEGIN:VEVENT
DTSTART;TZID=America/Kentucky/Louisville:20250815T180000
DTEND;TZID=America/Kentucky/Louisville:20250815T203000
DTSTAMP:20260422T140609
CREATED:20250517T213516Z
LAST-MODIFIED:20250815T214855Z
UID:10000307-1755280800-1755289800@visitgrayson.com
SUMMARY:GC Bluegrass Opry
DESCRIPTION:Grayson Co. Bluegrass Opry has free shows on the 3rd Friday night of each month at 6 PM at 125 East White Oak Street in Leitchfield\, KY.  For additional information on show dates visit our facebook page  https://www.facebook.com/Grayson-County-Bluegrass-Opry-124826100920843        \n \n 
URL:https://visitgrayson.com/event/gc-bluegrass-opry-22/
LOCATION:Old Courthouse\, 125 East Oak Street\, Leitchfield\, KY\, 42754\, United States
CATEGORIES:City,Tourism
ATTACH;FMTTYPE=image/jpeg:https://visitgrayson.com/wp-content/uploads/2023/11/Opry-wMi9yz.tmp_.jpg
END:VEVENT
BEGIN:VEVENT
DTSTART;TZID=America/Kentucky/Louisville:20250718T180000
DTEND;TZID=America/Kentucky/Louisville:20250718T203000
DTSTAMP:20260422T140609
CREATED:20250419T213922Z
LAST-MODIFIED:20250718T214658Z
UID:10000294-1752861600-1752870600@visitgrayson.com
SUMMARY:GC Bluegrass Opry
DESCRIPTION:Grayson Co. Bluegrass Opry has free shows on the 3rd Friday night of each month at 6 PM at 125 East White Oak Street in Leitchfield\, KY.  For additional information on show dates visit our facebook page  https://www.facebook.com/Grayson-County-Bluegrass-Opry-124826100920843        \n \n 
URL:https://visitgrayson.com/event/gc-bluegrass-opry-21/
LOCATION:Old Courthouse\, 125 East Oak Street\, Leitchfield\, KY\, 42754\, United States
CATEGORIES:City,Tourism
ATTACH;FMTTYPE=image/jpeg:https://visitgrayson.com/wp-content/uploads/2023/11/Opry-wMi9yz.tmp_.jpg
END:VEVENT
BEGIN:VEVENT
DTSTART;TZID=America/Kentucky/Louisville:20250620T180000
DTEND;TZID=America/Kentucky/Louisville:20250620T203000
DTSTAMP:20260422T140609
CREATED:20250322T203635Z
LAST-MODIFIED:20250620T204533Z
UID:10000284-1750442400-1750451400@visitgrayson.com
SUMMARY:GC Bluegrass Opry
DESCRIPTION:Grayson Co. Bluegrass Opry has free shows on the 3rd Friday night of each month at 6 PM at 125 East White Oak Street in Leitchfield\, KY.  For additional information on show dates visit our facebook page  https://www.facebook.com/Grayson-County-Bluegrass-Opry-124826100920843        \n \n 
URL:https://visitgrayson.com/event/gc-bluegrass-opry-20/
LOCATION:Old Courthouse\, 125 East Oak Street\, Leitchfield\, KY\, 42754\, United States
CATEGORIES:City,Tourism
ATTACH;FMTTYPE=image/jpeg:https://visitgrayson.com/wp-content/uploads/2023/11/Opry-wMi9yz.tmp_.jpg
END:VEVENT
BEGIN:VEVENT
DTSTART;TZID=America/Kentucky/Louisville:20250516T180000
DTEND;TZID=America/Kentucky/Louisville:20250516T203000
DTSTAMP:20260422T140609
CREATED:20250215T185311Z
LAST-MODIFIED:20250516T213315Z
UID:10000266-1747418400-1747427400@visitgrayson.com
SUMMARY:GC Bluegrass Opry
DESCRIPTION:Grayson Co. Bluegrass Opry has free shows on the 3rd Friday night of each month at 6 PM at 125 East White Oak Street in Leitchfield\, KY.  For additional information on show dates visit our facebook page  https://www.facebook.com/Grayson-County-Bluegrass-Opry-124826100920843        \n \n 
URL:https://visitgrayson.com/event/gc-bluegrass-opry-19/
LOCATION:Old Courthouse\, 125 East Oak Street\, Leitchfield\, KY\, 42754\, United States
CATEGORIES:City,Tourism
ATTACH;FMTTYPE=image/jpeg:https://visitgrayson.com/wp-content/uploads/2023/11/Opry-wMi9yz.tmp_.jpg
END:VEVENT
BEGIN:VEVENT
DTSTART;TZID=America/Kentucky/Louisville:20250418T180000
DTEND;TZID=America/Kentucky/Louisville:20250418T203000
DTSTAMP:20260422T140609
CREATED:20250118T181617Z
LAST-MODIFIED:20250418T211739Z
UID:10000257-1744999200-1745008200@visitgrayson.com
SUMMARY:GC Bluegrass Opry
DESCRIPTION:Grayson Co. Bluegrass Opry has free shows on the 3rd Friday night of each month at 6 PM at 125 East White Oak Street in Leitchfield\, KY.  For additional information on show dates visit our facebook page  https://www.facebook.com/Grayson-County-Bluegrass-Opry-124826100920843        \n \n 
URL:https://visitgrayson.com/event/gc-bluegrass-opry-18/
LOCATION:Old Courthouse\, 125 East Oak Street\, Leitchfield\, KY\, 42754\, United States
CATEGORIES:City,Tourism
ATTACH;FMTTYPE=image/jpeg:https://visitgrayson.com/wp-content/uploads/2023/11/Opry-wMi9yz.tmp_.jpg
END:VEVENT
BEGIN:VEVENT
DTSTART;TZID=America/Kentucky/Louisville:20250321T180000
DTEND;TZID=America/Kentucky/Louisville:20250321T203000
DTSTAMP:20260422T140609
CREATED:20241221T174043Z
LAST-MODIFIED:20250321T203337Z
UID:10000248-1742580000-1742589000@visitgrayson.com
SUMMARY:GC Bluegrass Opry
DESCRIPTION:Grayson Co. Bluegrass Opry has free shows on the 3rd Friday night of each month at 6 PM at 125 East White Oak Street in Leitchfield\, KY.  For additional information on show dates visit our facebook page  https://www.facebook.com/Grayson-County-Bluegrass-Opry-124826100920843        \n \n 
URL:https://visitgrayson.com/event/gc-bluegrass-opry-17/
LOCATION:Old Courthouse\, 125 East Oak Street\, Leitchfield\, KY\, 42754\, United States
CATEGORIES:City,Tourism
ATTACH;FMTTYPE=image/jpeg:https://visitgrayson.com/wp-content/uploads/2023/11/Opry-wMi9yz.tmp_.jpg
END:VEVENT
BEGIN:VEVENT
DTSTART;TZID=America/Kentucky/Louisville:20250221T180000
DTEND;TZID=America/Kentucky/Louisville:20250221T203000
DTSTAMP:20260422T140609
CREATED:20241123T164851Z
LAST-MODIFIED:20250221T191817Z
UID:10000240-1740160800-1740169800@visitgrayson.com
SUMMARY:GC Bluegrass Opry
DESCRIPTION:Grayson Co. Bluegrass Opry has free shows on the 3rd Friday night of each month at 6 PM at 125 East White Oak Street in Leitchfield\, KY.  For additional information on show dates visit our facebook page  https://www.facebook.com/Grayson-County-Bluegrass-Opry-124826100920843        \n \n 
URL:https://visitgrayson.com/event/gc-bluegrass-opry-16/
LOCATION:Old Courthouse\, 125 East Oak Street\, Leitchfield\, KY\, 42754\, United States
CATEGORIES:City,Tourism
ATTACH;FMTTYPE=image/jpeg:https://visitgrayson.com/wp-content/uploads/2023/11/Opry-wMi9yz.tmp_.jpg
END:VEVENT
BEGIN:VEVENT
DTSTART;TZID=America/Kentucky/Louisville:20250117T180000
DTEND;TZID=America/Kentucky/Louisville:20250117T203000
DTSTAMP:20260422T140609
CREATED:20241019T162202Z
LAST-MODIFIED:20250117T181458Z
UID:10000229-1737136800-1737145800@visitgrayson.com
SUMMARY:GC Bluegrass Opry
DESCRIPTION:Grayson Co. Bluegrass Opry has free shows on the 3rd Friday night of each month at 6 PM at 125 East White Oak Street in Leitchfield\, KY.  For additional information on show dates visit our facebook page  https://www.facebook.com/Grayson-County-Bluegrass-Opry-124826100920843        \n \n 
URL:https://visitgrayson.com/event/gc-bluegrass-opry-15/
LOCATION:Old Courthouse\, 125 East Oak Street\, Leitchfield\, KY\, 42754\, United States
CATEGORIES:City,Tourism
ATTACH;FMTTYPE=image/jpeg:https://visitgrayson.com/wp-content/uploads/2023/11/Opry-wMi9yz.tmp_.jpg
END:VEVENT
BEGIN:VEVENT
DTSTART;TZID=America/Kentucky/Louisville:20241220T180000
DTEND;TZID=America/Kentucky/Louisville:20241220T203000
DTSTAMP:20260422T140609
CREATED:20240921T150700Z
LAST-MODIFIED:20241220T173251Z
UID:10000226-1734717600-1734726600@visitgrayson.com
SUMMARY:GC Bluegrass Opry
DESCRIPTION:Grayson Co. Bluegrass Opry has free shows on the 3rd Friday night of each month at 6 PM at 125 East White Oak Street in Leitchfield\, KY.  For additional information on show dates visit our facebook page  https://www.facebook.com/Grayson-County-Bluegrass-Opry-124826100920843        \n \n 
URL:https://visitgrayson.com/event/gc-bluegrass-opry-14/
LOCATION:Old Courthouse\, 125 East Oak Street\, Leitchfield\, KY\, 42754\, United States
CATEGORIES:City,Tourism
ATTACH;FMTTYPE=image/jpeg:https://visitgrayson.com/wp-content/uploads/2023/11/Opry-wMi9yz.tmp_.jpg
END:VEVENT
BEGIN:VEVENT
DTSTART;TZID=America/Kentucky/Louisville:20241115T180000
DTEND;TZID=America/Kentucky/Louisville:20241115T203000
DTSTAMP:20260422T140609
CREATED:20240817T141734Z
LAST-MODIFIED:20241115T164448Z
UID:10000207-1731693600-1731702600@visitgrayson.com
SUMMARY:GC Bluegrass Opry
DESCRIPTION:Grayson Co. Bluegrass Opry has free shows on the 3rd Friday night of each month at 6 PM at 125 East White Oak Street in Leitchfield\, KY.  For additional information on show dates visit our facebook page  https://www.facebook.com/Grayson-County-Bluegrass-Opry-124826100920843        \n \n 
URL:https://visitgrayson.com/event/gc-bluegrass-opry-13/
LOCATION:Old Courthouse\, 125 East Oak Street\, Leitchfield\, KY\, 42754\, United States
CATEGORIES:City,Tourism
ATTACH;FMTTYPE=image/jpeg:https://visitgrayson.com/wp-content/uploads/2023/11/Opry-wMi9yz.tmp_.jpg
END:VEVENT
BEGIN:VEVENT
DTSTART;TZID=America/Kentucky/Louisville:20241018T180000
DTEND;TZID=America/Kentucky/Louisville:20241018T203000
DTSTAMP:20260422T140609
CREATED:20240720T125812Z
LAST-MODIFIED:20241018T161827Z
UID:10000190-1729274400-1729283400@visitgrayson.com
SUMMARY:GC Bluegrass Opry
DESCRIPTION:Grayson Co. Bluegrass Opry has free shows on the 3rd Friday night of each month at 6 PM at 125 East White Oak Street in Leitchfield\, KY.  For additional information on show dates visit our facebook page  https://www.facebook.com/Grayson-County-Bluegrass-Opry-124826100920843        \n \n 
URL:https://visitgrayson.com/event/gc-bluegrass-opry-12/
LOCATION:Old Courthouse\, 125 East Oak Street\, Leitchfield\, KY\, 42754\, United States
CATEGORIES:City,Tourism
ATTACH;FMTTYPE=image/jpeg:https://visitgrayson.com/wp-content/uploads/2023/11/Opry-wMi9yz.tmp_.jpg
END:VEVENT
BEGIN:VEVENT
DTSTART;TZID=America/Kentucky/Louisville:20240920T180000
DTEND;TZID=America/Kentucky/Louisville:20240920T203000
DTSTAMP:20260422T140609
CREATED:20240622T101558Z
LAST-MODIFIED:20240920T151353Z
UID:10000178-1726855200-1726864200@visitgrayson.com
SUMMARY:GC Bluegrass Opry
DESCRIPTION:Grayson Co. Bluegrass Opry has free shows on the 3rd Friday night of each month at 6 PM at 125 East White Oak Street in Leitchfield\, KY.  For additional information on show dates visit our facebook page  https://www.facebook.com/Grayson-County-Bluegrass-Opry-124826100920843        \n \n 
URL:https://visitgrayson.com/event/gc-bluegrass-opry-11/
LOCATION:Old Courthouse\, 125 East Oak Street\, Leitchfield\, KY\, 42754\, United States
CATEGORIES:City,Tourism
ATTACH;FMTTYPE=image/jpeg:https://visitgrayson.com/wp-content/uploads/2023/11/Opry-wMi9yz.tmp_.jpg
END:VEVENT
BEGIN:VEVENT
DTSTART;TZID=America/Kentucky/Louisville:20240816T180000
DTEND;TZID=America/Kentucky/Louisville:20240816T203000
DTSTAMP:20260422T140609
CREATED:20240518T223641Z
LAST-MODIFIED:20240816T140341Z
UID:10000151-1723831200-1723840200@visitgrayson.com
SUMMARY:GC Bluegrass Opry
DESCRIPTION:Grayson Co. Bluegrass Opry has free shows on the 3rd Friday night of each month at 6 PM at 125 East White Oak Street in Leitchfield\, KY.  For additional information on show dates visit our facebook page  https://www.facebook.com/Grayson-County-Bluegrass-Opry-124826100920843        \n \n 
URL:https://visitgrayson.com/event/gc-bluegrass-opry-10/
LOCATION:Old Courthouse\, 125 East Oak Street\, Leitchfield\, KY\, 42754\, United States
CATEGORIES:City,Tourism
ATTACH;FMTTYPE=image/jpeg:https://visitgrayson.com/wp-content/uploads/2023/11/Opry-wMi9yz.tmp_.jpg
END:VEVENT
BEGIN:VEVENT
DTSTART;TZID=America/Kentucky/Louisville:20240719T180000
DTEND;TZID=America/Kentucky/Louisville:20240719T203000
DTSTAMP:20260422T140609
CREATED:20240420T213030Z
LAST-MODIFIED:20240719T124536Z
UID:10000139-1721412000-1721421000@visitgrayson.com
SUMMARY:GC Bluegrass Opry
DESCRIPTION:Grayson Co. Bluegrass Opry has free shows on the 3rd Friday night of each month at 6 PM at 125 East White Oak Street in Leitchfield\, KY.  For additional information on show dates visit our facebook page  https://www.facebook.com/Grayson-County-Bluegrass-Opry-124826100920843        \n \n 
URL:https://visitgrayson.com/event/gc-bluegrass-opry-9/
LOCATION:Old Courthouse\, 125 East Oak Street\, Leitchfield\, KY\, 42754\, United States
CATEGORIES:City,Tourism
ATTACH;FMTTYPE=image/jpeg:https://visitgrayson.com/wp-content/uploads/2023/11/Opry-wMi9yz.tmp_.jpg
END:VEVENT
BEGIN:VEVENT
DTSTART;TZID=America/Kentucky/Louisville:20240621T180000
DTEND;TZID=America/Kentucky/Louisville:20240621T203000
DTSTAMP:20260422T140609
CREATED:20240323T203519Z
LAST-MODIFIED:20240621T101912Z
UID:10000129-1718992800-1719001800@visitgrayson.com
SUMMARY:GC Bluegrass Opry
DESCRIPTION:Grayson Co. Bluegrass Opry has free shows on the 3rd Friday night of each month at 6 PM at 125 East White Oak Street in Leitchfield\, KY.  For additional information on show dates visit our facebook page  https://www.facebook.com/Grayson-County-Bluegrass-Opry-124826100920843        \n \n 
URL:https://visitgrayson.com/event/gc-bluegrass-opry-8/
LOCATION:Old Courthouse\, 125 East Oak Street\, Leitchfield\, KY\, 42754\, United States
CATEGORIES:City,Tourism
ATTACH;FMTTYPE=image/jpeg:https://visitgrayson.com/wp-content/uploads/2023/11/Opry-wMi9yz.tmp_.jpg
END:VEVENT
BEGIN:VEVENT
DTSTART;TZID=America/Kentucky/Louisville:20240517T180000
DTEND;TZID=America/Kentucky/Louisville:20240517T203000
DTSTAMP:20260422T140609
CREATED:20240217T184538Z
LAST-MODIFIED:20240517T223250Z
UID:10000117-1715968800-1715977800@visitgrayson.com
SUMMARY:GC Bluegrass Opry
DESCRIPTION:Grayson Co. Bluegrass Opry has free shows on the 3rd Friday night of each month at 6 PM at 125 East White Oak Street in Leitchfield\, KY.  For additional information on show dates visit our facebook page  https://www.facebook.com/Grayson-County-Bluegrass-Opry-124826100920843        \n \n 
URL:https://visitgrayson.com/event/gc-bluegrass-opry-7/
LOCATION:Old Courthouse\, 125 East Oak Street\, Leitchfield\, KY\, 42754\, United States
CATEGORIES:City,Tourism
ATTACH;FMTTYPE=image/jpeg:https://visitgrayson.com/wp-content/uploads/2023/11/Opry-wMi9yz.tmp_.jpg
END:VEVENT
BEGIN:VEVENT
DTSTART;TZID=America/Kentucky/Louisville:20240419T180000
DTEND;TZID=America/Kentucky/Louisville:20240419T203000
DTSTAMP:20260422T140609
CREATED:20240120T181805Z
LAST-MODIFIED:20240419T212939Z
UID:10000109-1713549600-1713558600@visitgrayson.com
SUMMARY:GC Bluegrass Opry
DESCRIPTION:Grayson Co. Bluegrass Opry has free shows on the 3rd Friday night of each month at 6 PM at 125 East White Oak Street in Leitchfield\, KY.  For additional information on show dates visit our facebook page  https://www.facebook.com/Grayson-County-Bluegrass-Opry-124826100920843        \n \n 
URL:https://visitgrayson.com/event/gc-bluegrass-opry-6/
LOCATION:Old Courthouse\, 125 East Oak Street\, Leitchfield\, KY\, 42754\, United States
CATEGORIES:City,Tourism
ATTACH;FMTTYPE=image/jpeg:https://visitgrayson.com/wp-content/uploads/2023/11/Opry-wMi9yz.tmp_.jpg
END:VEVENT
BEGIN:VEVENT
DTSTART;TZID=America/Kentucky/Louisville:20240315T180000
DTEND;TZID=America/Kentucky/Louisville:20240315T203000
DTSTAMP:20260422T140609
CREATED:20231216T171526Z
LAST-MODIFIED:20240315T201525Z
UID:10000108-1710525600-1710534600@visitgrayson.com
SUMMARY:GC Bluegrass Opry
DESCRIPTION:Grayson Co. Bluegrass Opry has free shows on the 3rd Friday night of each month at 6 PM at 125 East White Oak Street in Leitchfield\, KY.  For additional information on show dates visit our facebook page  https://www.facebook.com/Grayson-County-Bluegrass-Opry-124826100920843        \n \n 
URL:https://visitgrayson.com/event/gc-bluegrass-opry-5/
LOCATION:Old Courthouse\, 125 East Oak Street\, Leitchfield\, KY\, 42754\, United States
CATEGORIES:City,Tourism
ATTACH;FMTTYPE=image/jpeg:https://visitgrayson.com/wp-content/uploads/2023/11/Opry-wMi9yz.tmp_.jpg
END:VEVENT
BEGIN:VEVENT
DTSTART;TZID=America/Kentucky/Louisville:20240216T180000
DTEND;TZID=America/Kentucky/Louisville:20240216T203000
DTSTAMP:20260422T140609
CREATED:20231118T210206Z
LAST-MODIFIED:20240216T184913Z
UID:10000107-1708106400-1708115400@visitgrayson.com
SUMMARY:GC Bluegrass Opry
DESCRIPTION:Grayson Co. Bluegrass Opry has free shows on the 3rd Friday night of each month at 6 PM at 125 East White Oak Street in Leitchfield\, KY.  For additional information on show dates visit our facebook page  https://www.facebook.com/Grayson-County-Bluegrass-Opry-124826100920843        \n \n 
URL:https://visitgrayson.com/event/gc-bluegrass-opry-4/
LOCATION:Old Courthouse\, 125 East Oak Street\, Leitchfield\, KY\, 42754\, United States
CATEGORIES:City,Tourism
ATTACH;FMTTYPE=image/jpeg:https://visitgrayson.com/wp-content/uploads/2023/11/Opry-wMi9yz.tmp_.jpg
END:VEVENT
BEGIN:VEVENT
DTSTART;TZID=America/Kentucky/Louisville:20240119T180000
DTEND;TZID=America/Kentucky/Louisville:20240119T203000
DTSTAMP:20260422T140609
CREATED:20231116T204452Z
LAST-MODIFIED:20240119T181415Z
UID:10000106-1705687200-1705696200@visitgrayson.com
SUMMARY:GC Bluegrass Opry
DESCRIPTION:Grayson Co. Bluegrass Opry has free shows on the 3rd Friday night of each month at 6 PM at 125 East White Oak Street in Leitchfield\, KY.  For additional information on show dates visit our facebook page  https://www.facebook.com/Grayson-County-Bluegrass-Opry-124826100920843        \n \n 
URL:https://visitgrayson.com/event/gc-bluegrass-opry-3/
LOCATION:Old Courthouse\, 125 East Oak Street\, Leitchfield\, KY\, 42754\, United States
CATEGORIES:City,Tourism
ATTACH;FMTTYPE=image/jpeg:https://visitgrayson.com/wp-content/uploads/2023/11/Opry-wMi9yz.tmp_.jpg
END:VEVENT
BEGIN:VEVENT
DTSTART;TZID=America/Kentucky/Louisville:20231215T180000
DTEND;TZID=America/Kentucky/Louisville:20231215T203000
DTSTAMP:20260422T140609
CREATED:20231116T204452Z
LAST-MODIFIED:20231215T171715Z
UID:10000105-1702663200-1702672200@visitgrayson.com
SUMMARY:GC Bluegrass Opry
DESCRIPTION:Grayson Co. Bluegrass Opry has free shows on the 3rd Friday night of each month at 6 PM at 125 East White Oak Street in Leitchfield\, KY.  For additional information on show dates visit our facebook page  https://www.facebook.com/Grayson-County-Bluegrass-Opry-124826100920843        \n \n 
URL:https://visitgrayson.com/event/gc-bluegrass-opry-2/
LOCATION:Old Courthouse\, 125 East Oak Street\, Leitchfield\, KY\, 42754\, United States
CATEGORIES:City,Tourism
ATTACH;FMTTYPE=image/jpeg:https://visitgrayson.com/wp-content/uploads/2023/11/Opry-wMi9yz.tmp_.jpg
END:VEVENT
BEGIN:VEVENT
DTSTART;TZID=America/Kentucky/Louisville:20231117T180000
DTEND;TZID=America/Kentucky/Louisville:20231117T203000
DTSTAMP:20260422T140609
CREATED:20231116T204451Z
LAST-MODIFIED:20231120T160445Z
UID:10000104-1700244000-1700253000@visitgrayson.com
SUMMARY:GC Bluegrass Opry
DESCRIPTION:Grayson Co. Bluegrass Opry has free shows on the 3rd Friday night of each month at 6 PM at 125 East White Oak Street in Leitchfield\, KY.  For additional information on show dates visit our facebook page  https://www.facebook.com/Grayson-County-Bluegrass-Opry-124826100920843        \n \n 
URL:https://visitgrayson.com/event/gc-bluegrass-opry/
LOCATION:Old Courthouse\, 125 East Oak Street\, Leitchfield\, KY\, 42754\, United States
CATEGORIES:City,Tourism
ATTACH;FMTTYPE=image/jpeg:https://visitgrayson.com/wp-content/uploads/2023/11/Opry-wMi9yz.tmp_.jpg
END:VEVENT
END:VCALENDAR