BEGIN:VCALENDAR
VERSION:2.0
PRODID:-//Grayson County Tourism - ECPv6.15.20//NONSGML v1.0//EN
CALSCALE:GREGORIAN
METHOD:PUBLISH
X-WR-CALNAME:Grayson County Tourism
X-ORIGINAL-URL:https://visitgrayson.com
X-WR-CALDESC:Events for Grayson County Tourism
REFRESH-INTERVAL;VALUE=DURATION:PT1H
X-Robots-Tag:noindex
X-PUBLISHED-TTL:PT1H
BEGIN:VTIMEZONE
TZID:America/Kentucky/Louisville
BEGIN:DAYLIGHT
TZOFFSETFROM:-0500
TZOFFSETTO:-0400
TZNAME:EDT
DTSTART:20250309T070000
END:DAYLIGHT
BEGIN:STANDARD
TZOFFSETFROM:-0400
TZOFFSETTO:-0500
TZNAME:EST
DTSTART:20251102T060000
END:STANDARD
BEGIN:DAYLIGHT
TZOFFSETFROM:-0500
TZOFFSETTO:-0400
TZNAME:EDT
DTSTART:20260308T070000
END:DAYLIGHT
BEGIN:STANDARD
TZOFFSETFROM:-0400
TZOFFSETTO:-0500
TZNAME:EST
DTSTART:20261101T060000
END:STANDARD
BEGIN:DAYLIGHT
TZOFFSETFROM:-0500
TZOFFSETTO:-0400
TZNAME:EDT
DTSTART:20270314T070000
END:DAYLIGHT
BEGIN:STANDARD
TZOFFSETFROM:-0400
TZOFFSETTO:-0500
TZNAME:EST
DTSTART:20271107T060000
END:STANDARD
END:VTIMEZONE
BEGIN:VEVENT
DTSTART;TZID=America/Kentucky/Louisville:20260516T100000
DTEND;TZID=America/Kentucky/Louisville:20260516T170000
DTSTAMP:20260423T063318
CREATED:20260226T140815Z
LAST-MODIFIED:20260422T163246Z
UID:10000401-1778925600-1778950800@visitgrayson.com
SUMMARY:Jump into Summer
DESCRIPTION:
URL:https://visitgrayson.com/event/jump-into-summer/
LOCATION:Grayson County Fairgrounds\, 1414 Brandenburg Road\, Leitchfield\, KY\, 42754\, United States
CATEGORIES:City,Tourism
ATTACH;FMTTYPE=image/jpeg:https://visitgrayson.com/wp-content/uploads/2026/02/jump-into-summer-JiO0cx.jpg
END:VEVENT
END:VCALENDAR