BEGIN:VCALENDAR
VERSION:2.0
PRODID:-//Grayson County Tourism - ECPv6.15.20//NONSGML v1.0//EN
CALSCALE:GREGORIAN
METHOD:PUBLISH
X-WR-CALNAME:Grayson County Tourism
X-ORIGINAL-URL:https://visitgrayson.com
X-WR-CALDESC:Events for Grayson County Tourism
REFRESH-INTERVAL;VALUE=DURATION:PT1H
X-Robots-Tag:noindex
X-PUBLISHED-TTL:PT1H
BEGIN:VTIMEZONE
TZID:America/Kentucky/Louisville
BEGIN:DAYLIGHT
TZOFFSETFROM:-0500
TZOFFSETTO:-0400
TZNAME:EDT
DTSTART:20240310T070000
END:DAYLIGHT
BEGIN:STANDARD
TZOFFSETFROM:-0400
TZOFFSETTO:-0500
TZNAME:EST
DTSTART:20241103T060000
END:STANDARD
BEGIN:DAYLIGHT
TZOFFSETFROM:-0500
TZOFFSETTO:-0400
TZNAME:EDT
DTSTART:20250309T070000
END:DAYLIGHT
BEGIN:STANDARD
TZOFFSETFROM:-0400
TZOFFSETTO:-0500
TZNAME:EST
DTSTART:20251102T060000
END:STANDARD
BEGIN:DAYLIGHT
TZOFFSETFROM:-0500
TZOFFSETTO:-0400
TZNAME:EDT
DTSTART:20260308T070000
END:DAYLIGHT
BEGIN:STANDARD
TZOFFSETFROM:-0400
TZOFFSETTO:-0500
TZNAME:EST
DTSTART:20261101T060000
END:STANDARD
END:VTIMEZONE
BEGIN:VEVENT
DTSTART;TZID=America/Kentucky/Louisville:20250704T180000
DTEND;TZID=America/Kentucky/Louisville:20250704T210000
DTSTAMP:20260421T161114
CREATED:20250405T205021Z
LAST-MODIFIED:20250704T210247Z
UID:10000287-1751652000-1751662800@visitgrayson.com
SUMMARY:WKCC Cruise In
DESCRIPTION:Join the Western Kentucky Car Club on the first Friday evening of each month for an antique car cruise-in! Beginning at 6:00 p.m.\, at the Indian Hills Shopping Center located at 115 Sequoia Drive in Leitchfield\, until everyone is gone!
URL:https://visitgrayson.com/event/wkcc-cruise-in-22/
LOCATION:Indian Hills Shopping Center\, 115 Sequoia Drive\, Leitchfield\, KY\, 42754\, United States
CATEGORIES:City,Tourism
ATTACH;FMTTYPE=image/jpeg:https://visitgrayson.com/wp-content/uploads/2024/02/Carshowpic-JmmkwT.tmp_.jpg
END:VEVENT
BEGIN:VEVENT
DTSTART;TZID=America/Kentucky/Louisville:20250711T170000
DTEND;TZID=America/Kentucky/Louisville:20250711T210000
DTSTAMP:20260421T161114
CREATED:20250611T224821Z
LAST-MODIFIED:20250711T210358Z
UID:10000322-1752253200-1752267600@visitgrayson.com
SUMMARY:Footloose- The Alice Theatre
DESCRIPTION:
URL:https://visitgrayson.com/event/footloose-the-alice-theatre/
LOCATION:The Alice Theatre\, 86 Public Square\, Leitchfield\, KY\, 42754\, United States
CATEGORIES:City,Tourism
ATTACH;FMTTYPE=image/jpeg:https://visitgrayson.com/wp-content/uploads/2025/06/711-jjUjpZ.tmp_.jpg
END:VEVENT
BEGIN:VEVENT
DTSTART;TZID=America/Kentucky/Louisville:20250711T183000
DTEND;TZID=America/Kentucky/Louisville:20250711T203000
DTSTAMP:20260421T161114
CREATED:20250412T212124Z
LAST-MODIFIED:20250711T210358Z
UID:10000289-1752258600-1752265800@visitgrayson.com
SUMMARY:Rough River Bluegrass night
DESCRIPTION:Once a month we celebrate our Bluegrass music on the second Friday of the Month!
URL:https://visitgrayson.com/event/rough-river-bluegrass-night-7/
CATEGORIES:City,Tourism
ATTACH;FMTTYPE=image/jpeg:https://visitgrayson.com/wp-content/uploads/2024/12/rough-river-bluegrass-URpXyx.tmp_.jpg
END:VEVENT
BEGIN:VEVENT
DTSTART;VALUE=DATE:20250712
DTEND;VALUE=DATE:20250713
DTSTAMP:20260421T161114
CREATED:20250413T212212Z
LAST-MODIFIED:20250712T211751Z
UID:10000290-1752278400-1752364799@visitgrayson.com
SUMMARY:Bull\, Barrels\, & Bourbon
DESCRIPTION:
URL:https://visitgrayson.com/event/bull-barrels-bourbon/
LOCATION:Grayson County Fairgrounds\, 1414 Brandenburg Road\, Leitchfield\, KY\, 42754\, United States
CATEGORIES:City,Tourism
ATTACH;FMTTYPE=image/jpeg:https://visitgrayson.com/wp-content/uploads/2025/04/fg-MhwYct.tmp_.jpg
END:VEVENT
BEGIN:VEVENT
DTSTART;TZID=America/Kentucky/Louisville:20250712T180000
DTEND;TZID=America/Kentucky/Louisville:20250712T220000
DTSTAMP:20260421T161114
CREATED:20250413T212212Z
LAST-MODIFIED:20250712T211751Z
UID:10000291-1752343200-1752357600@visitgrayson.com
SUMMARY:East Main Market Concert Series- The 77′ Experience
DESCRIPTION:
URL:https://visitgrayson.com/event/east-main-market-concert-series-the-77-experience/
LOCATION:East Main Market\, East Main Street\, Leitchfield\, KY\, 42754\, United States
CATEGORIES:City,Tourism
ATTACH;FMTTYPE=image/jpeg:https://visitgrayson.com/wp-content/uploads/2025/04/July-12-77-Experience-scaled-1UXP4M.tmp_.jpg
ORGANIZER;CN="Leitchfield Tourism Commission":MAILTO:ilsa.johnson@leitchfield.org
END:VEVENT
BEGIN:VEVENT
DTSTART;TZID=America/Kentucky/Louisville:20250718T170000
DTEND;TZID=America/Kentucky/Louisville:20250718T200000
DTSTAMP:20260421T161114
CREATED:20250419T213922Z
LAST-MODIFIED:20250718T214658Z
UID:10000293-1752858000-1752868800@visitgrayson.com
SUMMARY:Fiddling Fest Car Cruise-in Black Rock Mafia
DESCRIPTION:
URL:https://visitgrayson.com/event/fiddling-fest-car-cruise-in-black-rock-mafia-2/
LOCATION:Courthouse Square
CATEGORIES:City,Tourism
END:VEVENT
BEGIN:VEVENT
DTSTART;TZID=America/Kentucky/Louisville:20250718T173000
DTEND;TZID=America/Kentucky/Louisville:20250718T203000
DTSTAMP:20260421T161114
CREATED:20250603T221753Z
LAST-MODIFIED:20250718T214658Z
UID:10000317-1752859800-1752870600@visitgrayson.com
SUMMARY:Grayson Countys Got Talent- Alice Theatre
DESCRIPTION:
URL:https://visitgrayson.com/event/grayson-countys-got-talent-alice-theatre-2/
LOCATION:The Alice Theatre\, 86 Public Square\, Leitchfield\, KY\, 42754\, United States
CATEGORIES:City,Tourism
ATTACH;FMTTYPE=image/jpeg:https://visitgrayson.com/wp-content/uploads/2025/06/talent-0ve2ZC.tmp_.jpg
END:VEVENT
BEGIN:VEVENT
DTSTART;TZID=America/Kentucky/Louisville:20250718T180000
DTEND;TZID=America/Kentucky/Louisville:20250718T203000
DTSTAMP:20260421T161114
CREATED:20250419T213922Z
LAST-MODIFIED:20250718T214658Z
UID:10000294-1752861600-1752870600@visitgrayson.com
SUMMARY:GC Bluegrass Opry
DESCRIPTION:Grayson Co. Bluegrass Opry has free shows on the 3rd Friday night of each month at 6 PM at 125 East White Oak Street in Leitchfield\, KY.  For additional information on show dates visit our facebook page  https://www.facebook.com/Grayson-County-Bluegrass-Opry-124826100920843        \n \n 
URL:https://visitgrayson.com/event/gc-bluegrass-opry-21/
LOCATION:Old Courthouse\, 125 East Oak Street\, Leitchfield\, KY\, 42754\, United States
CATEGORIES:City,Tourism
ATTACH;FMTTYPE=image/jpeg:https://visitgrayson.com/wp-content/uploads/2023/11/Opry-wMi9yz.tmp_.jpg
END:VEVENT
BEGIN:VEVENT
DTSTART;TZID=America/Kentucky/Louisville:20250718T200000
DTEND;TZID=America/Kentucky/Louisville:20250718T210000
DTSTAMP:20260421T161114
CREATED:20250419T213922Z
LAST-MODIFIED:20250718T214659Z
UID:10000295-1752868800-1752872400@visitgrayson.com
SUMMARY:City of Leitchfield Fireworks
DESCRIPTION:
URL:https://visitgrayson.com/event/city-of-leitchfield-fireworks-3/
LOCATION:Grayson County Middle School-Babe Ruth Field\, 726 John Hill Taylor Drive\, Leitchfield\, KY\, 42754\, United States
CATEGORIES:City,Tourism
ATTACH;FMTTYPE=image/jpeg:https://visitgrayson.com/wp-content/uploads/2024/03/fireworks-image-zfQgUN.tmp_.jpg
ORGANIZER;CN="Leitchfield Tourism Commission":MAILTO:ilsa.johnson@leitchfield.org
END:VEVENT
BEGIN:VEVENT
DTSTART;TZID=America/Kentucky/Louisville:20250719T090000
DTEND;TZID=America/Kentucky/Louisville:20250719T220000
DTSTAMP:20260421T161114
CREATED:20250420T213012Z
LAST-MODIFIED:20250719T214526Z
UID:10000296-1752915600-1752962400@visitgrayson.com
SUMMARY:Twin Lakes National Fiddler Championship
DESCRIPTION:
URL:https://visitgrayson.com/event/twin-lakes-national-fiddler-championship-2/
LOCATION:Courthouse Square
CATEGORIES:City,Tourism
ATTACH;FMTTYPE=image/jpeg:https://visitgrayson.com/wp-content/uploads/2025/04/fiddle-scaled-gat5t6.tmp_.jpg
ORGANIZER;CN="Twin Lakies National Fiddler Championship":MAILTO:contest@twinlakesfiddler.com
END:VEVENT
BEGIN:VEVENT
DTSTART;TZID=America/Kentucky/Louisville:20250723T100000
DTEND;TZID=America/Kentucky/Louisville:20250723T160000
DTSTAMP:20260421T161114
CREATED:20250717T214948Z
LAST-MODIFIED:20250723T214616Z
UID:10000335-1753264800-1753286400@visitgrayson.com
SUMMARY:Leitchfield Police Department Community Blood Drive
DESCRIPTION:
URL:https://visitgrayson.com/event/leitchfield-police-department-community-blood-drive/
LOCATION:Centre on Main\, 425 South Main Street\, Leitchfield\, KY\, 270\, United States
CATEGORIES:City,Tourism
ATTACH;FMTTYPE=image/jpeg:https://visitgrayson.com/wp-content/uploads/2025/07/blood-drive-pdf-Y13Rol.jpg
END:VEVENT
BEGIN:VEVENT
DTSTART;TZID=America/Kentucky/Louisville:20250726T170000
DTEND;TZID=America/Kentucky/Louisville:20250726T200000
DTSTAMP:20260421T161114
CREATED:20250427T213240Z
LAST-MODIFIED:20250726T214635Z
UID:10000301-1753549200-1753560000@visitgrayson.com
SUMMARY:Black Rock Mafia Car/Truck Cruise In
DESCRIPTION:Black Rock Mafia has a monthly cruise in on the 4th Saturday of every month starting in April and runs through October from 5-8 p.m. at Bailey’s Zip Mart
URL:https://visitgrayson.com/event/black-rock-mafia-car-truck-cruise-in-4/
LOCATION:Bailey’s Zip Mart\, 6159 Beaver Dam Road\, Millwood\, KY\, 42762\, United States
CATEGORIES:City,Tourism
ATTACH;FMTTYPE=image/jpeg:https://visitgrayson.com/wp-content/uploads/2025/01/black-rock-mafia-baileys-ExeR42.tmp_.jpg
END:VEVENT
BEGIN:VEVENT
DTSTART;TZID=America/Kentucky/Louisville:20250726T180000
DTEND;TZID=America/Kentucky/Louisville:20250726T220000
DTSTAMP:20260421T161114
CREATED:20250427T213240Z
LAST-MODIFIED:20250726T214635Z
UID:10000302-1753552800-1753567200@visitgrayson.com
SUMMARY:East Main Market Concert Series- Eaglemaniacs
DESCRIPTION:
URL:https://visitgrayson.com/event/east-main-market-concert-series-eaglemaniacs/
LOCATION:East Main Market\, East Main Street\, Leitchfield\, KY\, 42754\, United States
CATEGORIES:City,Tourism
ATTACH;FMTTYPE=image/jpeg:https://visitgrayson.com/wp-content/uploads/2025/04/july-26-flyer-1-scaled-kgnx6Y.tmp_.jpg
ORGANIZER;CN="Leitchfield Tourism Commission":MAILTO:ilsa.johnson@leitchfield.org
END:VEVENT
END:VCALENDAR