BEGIN:VCALENDAR
VERSION:2.0
PRODID:-//Grayson County Tourism - ECPv6.15.20//NONSGML v1.0//EN
CALSCALE:GREGORIAN
METHOD:PUBLISH
X-ORIGINAL-URL:https://visitgrayson.com
X-WR-CALDESC:Events for Grayson County Tourism
REFRESH-INTERVAL;VALUE=DURATION:PT1H
X-Robots-Tag:noindex
X-PUBLISHED-TTL:PT1H
BEGIN:VTIMEZONE
TZID:America/Kentucky/Louisville
BEGIN:DAYLIGHT
TZOFFSETFROM:-0500
TZOFFSETTO:-0400
TZNAME:EDT
DTSTART:20250309T070000
END:DAYLIGHT
BEGIN:STANDARD
TZOFFSETFROM:-0400
TZOFFSETTO:-0500
TZNAME:EST
DTSTART:20251102T060000
END:STANDARD
BEGIN:DAYLIGHT
TZOFFSETFROM:-0500
TZOFFSETTO:-0400
TZNAME:EDT
DTSTART:20260308T070000
END:DAYLIGHT
BEGIN:STANDARD
TZOFFSETFROM:-0400
TZOFFSETTO:-0500
TZNAME:EST
DTSTART:20261101T060000
END:STANDARD
BEGIN:DAYLIGHT
TZOFFSETFROM:-0500
TZOFFSETTO:-0400
TZNAME:EDT
DTSTART:20270314T070000
END:DAYLIGHT
BEGIN:STANDARD
TZOFFSETFROM:-0400
TZOFFSETTO:-0500
TZNAME:EST
DTSTART:20271107T060000
END:STANDARD
END:VTIMEZONE
BEGIN:VEVENT
DTSTART;TZID=America/Kentucky/Louisville:20260306T180000
DTEND;TZID=America/Kentucky/Louisville:20260306T210000
DTSTAMP:20260425T194434
CREATED:20251206T095111Z
LAST-MODIFIED:20260306T143124Z
UID:10000378-1772820000-1772830800@visitgrayson.com
SUMMARY:WKCC Cruise In
DESCRIPTION:Join the Western Kentucky Car Club on the first Friday evening of each month for an antique car cruise-in! Beginning at 6:00 p.m.\, at the Indian Hills Shopping Center located at 115 Sequoia Drive in Leitchfield\, until everyone is gone!
URL:https://visitgrayson.com/event/wkcc-cruise-in-30/
LOCATION:Indian Hills Shopping Center\, 115 Sequoia Drive\, Leitchfield\, KY\, 42754\, United States
CATEGORIES:City,Tourism
ATTACH;FMTTYPE=image/jpeg:https://visitgrayson.com/wp-content/uploads/2024/02/Carshowpic-JmmkwT.tmp_.jpg
END:VEVENT
BEGIN:VEVENT
DTSTART;TZID=America/Kentucky/Louisville:20260307T180000
DTEND;TZID=America/Kentucky/Louisville:20260307T203000
DTSTAMP:20260425T194434
CREATED:20260122T121803Z
LAST-MODIFIED:20260307T142904Z
UID:10000392-1772906400-1772915400@visitgrayson.com
SUMMARY:McTeggart Irish Dancers & Set Course- Alice Theatre
DESCRIPTION:
URL:https://visitgrayson.com/event/mcteggart-irish-dancers-set-course-alice-theatre/
LOCATION:The Alice Theatre\, 86 Public Square\, Leitchfield\, KY\, 42754\, United States
CATEGORIES:City,Tourism
ATTACH;FMTTYPE=image/jpeg:https://visitgrayson.com/wp-content/uploads/2026/01/A-S8GBQ1.jpg
END:VEVENT
BEGIN:VEVENT
DTSTART;TZID=America/Kentucky/Louisville:20260313T183000
DTEND;TZID=America/Kentucky/Louisville:20260313T203000
DTSTAMP:20260425T194434
CREATED:20251213T100351Z
LAST-MODIFIED:20260121T122000Z
UID:10000379-1773426600-1773433800@visitgrayson.com
SUMMARY:Rough River Bluegrass night
DESCRIPTION:Once a month we celebrate our Bluegrass music on the second Friday of the Month!
URL:https://visitgrayson.com/event/rough-river-bluegrass-night-15/
LOCATION:KY
CATEGORIES:City,Tourism
ATTACH;FMTTYPE=image/jpeg:https://visitgrayson.com/wp-content/uploads/2024/12/rough-river-bluegrass-URpXyx.tmp_.jpg
END:VEVENT
BEGIN:VEVENT
DTSTART;TZID=America/Kentucky/Louisville:20260320T180000
DTEND;TZID=America/Kentucky/Louisville:20260320T203000
DTSTAMP:20260425T194434
CREATED:20251220T103325Z
LAST-MODIFIED:20260320T144703Z
UID:10000380-1774029600-1774038600@visitgrayson.com
SUMMARY:GC Bluegrass Opry
DESCRIPTION:Grayson Co. Bluegrass Opry has free shows on the 3rd Friday night of each month at 6 PM at 125 East White Oak Street in Leitchfield\, KY.  For additional information on show dates visit our facebook page  https://www.facebook.com/Grayson-County-Bluegrass-Opry-124826100920843        \n \n 
URL:https://visitgrayson.com/event/gc-bluegrass-opry-29/
LOCATION:Old Courthouse\, 125 East Oak Street\, Leitchfield\, KY\, 42754\, United States
CATEGORIES:City,Tourism
ATTACH;FMTTYPE=image/jpeg:https://visitgrayson.com/wp-content/uploads/2023/11/Opry-wMi9yz.tmp_.jpg
END:VEVENT
BEGIN:VEVENT
DTSTART;VALUE=DATE:20260328
DTEND;VALUE=DATE:20260329
DTSTAMP:20260425T194434
CREATED:20251228T112708Z
LAST-MODIFIED:20260328T151948Z
UID:10000381-1774656000-1774742399@visitgrayson.com
SUMMARY:Casino Night- Twin Lakes Skatepark Project
DESCRIPTION:
URL:https://visitgrayson.com/event/casino-night-twin-lakes-skatepark-project/
LOCATION:Arbor Stone Vineyard
CATEGORIES:City,Tourism
ATTACH;FMTTYPE=image/jpeg:https://visitgrayson.com/wp-content/uploads/2025/12/casino-6ktklR.jpg
END:VEVENT
END:VCALENDAR