BEGIN:VCALENDAR
VERSION:2.0
PRODID:-//Grayson County Tourism - ECPv6.15.20//NONSGML v1.0//EN
CALSCALE:GREGORIAN
METHOD:PUBLISH
X-ORIGINAL-URL:https://visitgrayson.com
X-WR-CALDESC:Events for Grayson County Tourism
REFRESH-INTERVAL;VALUE=DURATION:PT1H
X-Robots-Tag:noindex
X-PUBLISHED-TTL:PT1H
BEGIN:VTIMEZONE
TZID:America/Kentucky/Louisville
BEGIN:DAYLIGHT
TZOFFSETFROM:-0500
TZOFFSETTO:-0400
TZNAME:EDT
DTSTART:20250309T070000
END:DAYLIGHT
BEGIN:STANDARD
TZOFFSETFROM:-0400
TZOFFSETTO:-0500
TZNAME:EST
DTSTART:20251102T060000
END:STANDARD
BEGIN:DAYLIGHT
TZOFFSETFROM:-0500
TZOFFSETTO:-0400
TZNAME:EDT
DTSTART:20260308T070000
END:DAYLIGHT
BEGIN:STANDARD
TZOFFSETFROM:-0400
TZOFFSETTO:-0500
TZNAME:EST
DTSTART:20261101T060000
END:STANDARD
BEGIN:DAYLIGHT
TZOFFSETFROM:-0500
TZOFFSETTO:-0400
TZNAME:EDT
DTSTART:20270314T070000
END:DAYLIGHT
BEGIN:STANDARD
TZOFFSETFROM:-0400
TZOFFSETTO:-0500
TZNAME:EST
DTSTART:20271107T060000
END:STANDARD
END:VTIMEZONE
BEGIN:VTIMEZONE
TZID:UTC
BEGIN:STANDARD
TZOFFSETFROM:+0000
TZOFFSETTO:+0000
TZNAME:UTC
DTSTART:20250101T000000
END:STANDARD
END:VTIMEZONE
BEGIN:VEVENT
DTSTART;TZID=America/Kentucky/Louisville:20260711T180000
DTEND;TZID=America/Kentucky/Louisville:20260711T220000
DTSTAMP:20260425T093117
CREATED:20260412T155108Z
LAST-MODIFIED:20260424T163341Z
UID:10000410-1783792800-1783807200@visitgrayson.com
SUMMARY:East Main Market Concert Series- World Turning Band
DESCRIPTION:
URL:https://visitgrayson.com/event/east-main-market-concert-series-world-turning-band/
LOCATION:East Main Market\, East Main Street\, Leitchfield\, KY\, 42754\, United States
CATEGORIES:City,Tourism
ATTACH;FMTTYPE=image/jpeg:https://visitgrayson.com/wp-content/uploads/2026/04/July-11-2026-World-Turning-scaled-RkNqH8.jpg
ORGANIZER;CN="East Main Market":MAILTO:eastmainmkt@gmail.com
END:VEVENT
BEGIN:VEVENT
DTSTART;TZID=America/Kentucky/Louisville:20260717T180000
DTEND;TZID=America/Kentucky/Louisville:20260717T203000
DTSTAMP:20260425T093117
CREATED:20260418T160331Z
LAST-MODIFIED:20260424T163341Z
UID:10000411-1784311200-1784320200@visitgrayson.com
SUMMARY:GC Bluegrass Opry
DESCRIPTION:Grayson Co. Bluegrass Opry has free shows on the 3rd Friday night of each month at 6 PM at 125 East White Oak Street in Leitchfield\, KY.  For additional information on show dates visit our facebook page  https://www.facebook.com/Grayson-County-Bluegrass-Opry-124826100920843        \n \n 
URL:https://visitgrayson.com/event/gc-bluegrass-opry-33/
LOCATION:Old Courthouse\, 125 East Oak Street\, Leitchfield\, KY\, 42754\, United States
CATEGORIES:City,Tourism
ATTACH;FMTTYPE=image/jpeg:https://visitgrayson.com/wp-content/uploads/2023/11/Opry-wMi9yz.tmp_.jpg
END:VEVENT
BEGIN:VEVENT
DTSTART;TZID=America/Kentucky/Louisville:20260717T210000
DTEND;TZID=America/Kentucky/Louisville:20260717T213000
DTSTAMP:20260425T093117
CREATED:20260418T160331Z
LAST-MODIFIED:20260424T163342Z
UID:10000412-1784322000-1784323800@visitgrayson.com
SUMMARY:City of Leitchfield Fireworks
DESCRIPTION:
URL:https://visitgrayson.com/event/city-of-leitchfield-fireworks-4/
LOCATION:Grayson County Middle School-Babe Ruth Field\, 726 John Hill Taylor Drive\, Leitchfield\, KY\, 42754\, United States
CATEGORIES:City,Tourism
ATTACH;FMTTYPE=image/png:https://visitgrayson.com/wp-content/uploads/2026/04/ChatGPT-Image-Feb-25-2026-12_13_09-PM-OZcGJK.png
ORGANIZER;CN="City of Leitchfield":MAILTO:info@visitleitchfield.com
END:VEVENT
BEGIN:VEVENT
DTSTART;TZID=America/Kentucky/Louisville:20260718T090000
DTEND;TZID=America/Kentucky/Louisville:20260718T220000
DTSTAMP:20260425T093117
CREATED:20260419T160053Z
LAST-MODIFIED:20260424T163403Z
UID:10000413-1784365200-1784412000@visitgrayson.com
SUMMARY:Twin Lakes National Fiddler Championship
DESCRIPTION:
URL:https://visitgrayson.com/event/twin-lakes-national-fiddler-championship-3/
LOCATION:Courthouse Square
CATEGORIES:City,Tourism
ATTACH;FMTTYPE=image/jpeg:https://visitgrayson.com/wp-content/uploads/2026/04/presidents-day-1-scaled-QNLgs5.jpg
ORGANIZER;CN="City of Leitchfield":MAILTO:info@visitleitchfield.com
END:VEVENT
BEGIN:VEVENT
DTSTART;TZID=UTC:20260911T080000
DTEND;TZID=UTC:20260913T170000
DTSTAMP:20260425T093117
CREATED:20230613T123324Z
LAST-MODIFIED:20260209T152551Z
UID:10000063-1789113600-1789318800@visitgrayson.com
SUMMARY:EAA Sports Aviation Fly-In Rough River
DESCRIPTION:
URL:https://visitgrayson.com/event/eaa-sports-aviation-fly-in-rough-river/
LOCATION:KY
CATEGORIES:City,Tourism
ATTACH;FMTTYPE=image/jpeg:https://visitgrayson.com/wp-content/uploads/2023/06/aviation-WrzEfl.tmp_.jpg
END:VEVENT
BEGIN:VEVENT
DTSTART;TZID=UTC:20260924T080000
DTEND;TZID=UTC:20260927T170000
DTSTAMP:20260425T093117
CREATED:20230704T185601Z
LAST-MODIFIED:20260209T152641Z
UID:10000070-1790236800-1790528400@visitgrayson.com
SUMMARY:Rough River Canard Fly-In
DESCRIPTION:
URL:https://visitgrayson.com/event/rough-river-canard-fly-in/
LOCATION:KY
CATEGORIES:City,Tourism
ATTACH;FMTTYPE=image/jpeg:https://visitgrayson.com/wp-content/uploads/2023/07/canard-DdGjX5.tmp_.jpg
END:VEVENT
BEGIN:VEVENT
DTSTART;TZID=America/Kentucky/Louisville:20261212T100000
DTEND;TZID=America/Kentucky/Louisville:20261212T110000
DTSTAMP:20260425T093117
CREATED:20240908T144017Z
LAST-MODIFIED:20260209T152959Z
UID:10000212-1797069600-1797073200@visitgrayson.com
SUMMARY:Rough River State Park Breakfast with Santa
DESCRIPTION:
URL:https://visitgrayson.com/event/rough-river-state-park-breakfast-with-santa/
LOCATION:KY
CATEGORIES:City,Tourism
ATTACH;FMTTYPE=image/jpeg:https://visitgrayson.com/wp-content/uploads/2023/09/santa-TsVQLq.tmp_.jpg
END:VEVENT
END:VCALENDAR