BEGIN:VCALENDAR
VERSION:2.0
PRODID:-//Grayson County Tourism - ECPv6.15.20//NONSGML v1.0//EN
CALSCALE:GREGORIAN
METHOD:PUBLISH
X-WR-CALNAME:Grayson County Tourism
X-ORIGINAL-URL:https://visitgrayson.com
X-WR-CALDESC:Events for Grayson County Tourism
REFRESH-INTERVAL;VALUE=DURATION:PT1H
X-Robots-Tag:noindex
X-PUBLISHED-TTL:PT1H
BEGIN:VTIMEZONE
TZID:America/Kentucky/Louisville
BEGIN:DAYLIGHT
TZOFFSETFROM:-0500
TZOFFSETTO:-0400
TZNAME:EDT
DTSTART:20240310T070000
END:DAYLIGHT
BEGIN:STANDARD
TZOFFSETFROM:-0400
TZOFFSETTO:-0500
TZNAME:EST
DTSTART:20241103T060000
END:STANDARD
BEGIN:DAYLIGHT
TZOFFSETFROM:-0500
TZOFFSETTO:-0400
TZNAME:EDT
DTSTART:20250309T070000
END:DAYLIGHT
BEGIN:STANDARD
TZOFFSETFROM:-0400
TZOFFSETTO:-0500
TZNAME:EST
DTSTART:20251102T060000
END:STANDARD
BEGIN:DAYLIGHT
TZOFFSETFROM:-0500
TZOFFSETTO:-0400
TZNAME:EDT
DTSTART:20260308T070000
END:DAYLIGHT
BEGIN:STANDARD
TZOFFSETFROM:-0400
TZOFFSETTO:-0500
TZNAME:EST
DTSTART:20261101T060000
END:STANDARD
END:VTIMEZONE
BEGIN:VEVENT
DTSTART;TZID=America/Kentucky/Louisville:20250222T170000
DTEND;TZID=America/Kentucky/Louisville:20250222T190000
DTSTAMP:20260419T114323
CREATED:20250109T180136Z
LAST-MODIFIED:20250222T191455Z
UID:10000254-1740243600-1740250800@visitgrayson.com
SUMMARY:Darling Dance Guardian + Child Event- Alice Theatre
DESCRIPTION:
URL:https://visitgrayson.com/event/darling-dance-guardian-child-event-alice-theatre/
LOCATION:The Alice Theatre\, 86 Public Square\, Leitchfield\, KY\, 42754\, United States
CATEGORIES:City,Tourism
ATTACH;FMTTYPE=image/jpeg:https://visitgrayson.com/wp-content/uploads/2025/01/4-Y8IPEa.tmp_.jpg
END:VEVENT
END:VCALENDAR