BEGIN:VCALENDAR
VERSION:2.0
PRODID:-//Grayson County Tourism - ECPv6.15.20//NONSGML v1.0//EN
CALSCALE:GREGORIAN
METHOD:PUBLISH
X-WR-CALNAME:Grayson County Tourism
X-ORIGINAL-URL:https://visitgrayson.com
X-WR-CALDESC:Events for Grayson County Tourism
REFRESH-INTERVAL;VALUE=DURATION:PT1H
X-Robots-Tag:noindex
X-PUBLISHED-TTL:PT1H
BEGIN:VTIMEZONE
TZID:America/Kentucky/Louisville
BEGIN:DAYLIGHT
TZOFFSETFROM:-0500
TZOFFSETTO:-0400
TZNAME:EDT
DTSTART:20230312T070000
END:DAYLIGHT
BEGIN:STANDARD
TZOFFSETFROM:-0400
TZOFFSETTO:-0500
TZNAME:EST
DTSTART:20231105T060000
END:STANDARD
BEGIN:DAYLIGHT
TZOFFSETFROM:-0500
TZOFFSETTO:-0400
TZNAME:EDT
DTSTART:20240310T070000
END:DAYLIGHT
BEGIN:STANDARD
TZOFFSETFROM:-0400
TZOFFSETTO:-0500
TZNAME:EST
DTSTART:20241103T060000
END:STANDARD
BEGIN:DAYLIGHT
TZOFFSETFROM:-0500
TZOFFSETTO:-0400
TZNAME:EDT
DTSTART:20250309T070000
END:DAYLIGHT
BEGIN:STANDARD
TZOFFSETFROM:-0400
TZOFFSETTO:-0500
TZNAME:EST
DTSTART:20251102T060000
END:STANDARD
END:VTIMEZONE
BEGIN:VEVENT
DTSTART;TZID=America/Kentucky/Louisville:20241012T160000
DTEND;TZID=America/Kentucky/Louisville:20241012T180000
DTSTAMP:20260423T063438
CREATED:20240714T122305Z
LAST-MODIFIED:20241012T154753Z
UID:10000189-1728748800-1728756000@visitgrayson.com
SUMMARY:Treats On The Trail
DESCRIPTION:Treats On The Trail will be at Clarkson City Park on October 12th at 4pm until 6pm.  Bring the kids to walk the trails in there Halloween costume and get candy from different local businesses.
URL:https://visitgrayson.com/event/treats-on-the-trail/
LOCATION:Ky
CATEGORIES:City,Tourism
ATTACH;FMTTYPE=image/jpeg:https://visitgrayson.com/wp-content/uploads/2024/07/trick-or-treat-lAGMr7.tmp_.jpg
END:VEVENT
BEGIN:VEVENT
DTSTART;TZID=America/Kentucky/Louisville:20241012T160000
DTEND;TZID=America/Kentucky/Louisville:20241012T230000
DTSTAMP:20260423T063438
CREATED:20240723T195458Z
LAST-MODIFIED:20240723T195458Z
UID:10000191-1728748800-1728774000@visitgrayson.com
SUMMARY:Rock The Park Day Festival
DESCRIPTION:We are excited to announce that the Twin Lakes Skatepark Project will host our first “Rock the Park” Day Festival on October 12\, 2024 from 4 PM until 11:00 PM CDT at Logsdon Valley Park! This event will be made possible by: Hometown Hangout Sports Pub & Grill and Grayson County Tourism.\nIt will be a fantastic day for all the family\, full of fun and simply amazing music. We have an amazing lineup for the night. Best of all\, soon we will announce our secret headliner for the night: an artist with an RIAA Platinum-selling record! 🎤✨\nMore details of the fest will be released soon\, closer to the event date.\n📅 Save the date: October 12\, 2024\n🎟️ Pre-sale tickets available on August 5\, 2024\nWe are also going to be contacting local businesses for sponsorship and vendors. If you want to participate in this great event\, please send an email to info@TwinLakesSkatepark.org\nLet’s make “Rock the Park” a day to remember! See you there!
URL:https://visitgrayson.com/event/rock-the-park-day-festival/
LOCATION:Ky
ATTACH;FMTTYPE=image/jpeg:https://visitgrayson.com/wp-content/uploads/2024/07/skate-park-event.jpg
END:VEVENT
BEGIN:VEVENT
DTSTART;TZID=America/Kentucky/Louisville:20241012T160000
DTEND;TZID=America/Kentucky/Louisville:20241012T230000
DTSTAMP:20260423T063438
CREATED:20240724T130720Z
LAST-MODIFIED:20241012T154753Z
UID:10000193-1728748800-1728774000@visitgrayson.com
SUMMARY:Rock The Park
DESCRIPTION:The Twin Lakes Skatepark Project (TLSP) is thrilled to announce “Rock the Park\,” a day festival on October 12\, 2024\, at the Logsdon Valley Amphitheater\, 500 Carroll Gibson Blvd\, Leitchfield\, KY 42754. This exciting event is a major fundraising initiative to support the development of the Twin Lakes Skatepark\, bringing the community together for a day of fun\, music\, and activities. The festival promises entertainment for all ages\, featuring kids’ activities\, a variety of vendors\, beer\, and live music. Enjoy performances by local musicians\, Nashville artist Chandler Brown\, and headliner—Grayson County native Elvie Shane. Don’t miss out on this incredible community event! Event Details: Date: October 12\, 2024 Location: Logsdon Valley Amphitheater\, 500 Carroll Gibson Blvd\, Leitchfield\, KY 42754\, United States Time: Gates open at 4:00 PM CDT Ends at 11:00PM CDT -Kids’ activities throughout the day -Vendors offering a variety of goods and services -Food trucks providing delicious eats -Beer tents for adult refreshments -Live music from local bands and some of Nashville’s best. Get Involved: If you are interested in setting up a booth\, food truck\, or beer tent at the event\, please contact us at info@twinlakesskatepark.org. We welcome vendors of all kinds to join us in making this event a success. About Twin Lakes Skatepark Project: The Twin Lakes Skatepark Project is dedicated to the planning\, development\, and maintenance of a public recreational skatepark facility within Grayson County. Our mission is to provide recreational opportunities for residents and visitors\, promote physical activity and healthy lifestyles\, contribute to the economic growth and development of our region\, and foster a sense of community engagement and collaboration. Join us for a day of fun\, music\, and community spirit at “Rock the Park” and help support the future of the Twin Lakes Skatepark. \nhttps://givebutter.com/RockThePark/leitchfieldtourismcommission \nhttps://givebutter.com/RockThePark/graysoncountytourism
URL:https://visitgrayson.com/event/rock-the-park-day-festival-2/
LOCATION:Ky
CATEGORIES:City,Tourism
ATTACH;FMTTYPE=image/jpeg:https://visitgrayson.com/wp-content/uploads/2024/09/rock-the-park-FL4PjD.tmp_.jpg
END:VEVENT
END:VCALENDAR