BEGIN:VCALENDAR
VERSION:2.0
PRODID:-//Grayson County Tourism - ECPv6.15.20//NONSGML v1.0//EN
CALSCALE:GREGORIAN
METHOD:PUBLISH
X-ORIGINAL-URL:https://visitgrayson.com
X-WR-CALDESC:Events for Grayson County Tourism
REFRESH-INTERVAL;VALUE=DURATION:PT1H
X-Robots-Tag:noindex
X-PUBLISHED-TTL:PT1H
BEGIN:VTIMEZONE
TZID:America/Kentucky/Louisville
BEGIN:DAYLIGHT
TZOFFSETFROM:-0500
TZOFFSETTO:-0400
TZNAME:EDT
DTSTART:20230312T070000
END:DAYLIGHT
BEGIN:STANDARD
TZOFFSETFROM:-0400
TZOFFSETTO:-0500
TZNAME:EST
DTSTART:20231105T060000
END:STANDARD
BEGIN:DAYLIGHT
TZOFFSETFROM:-0500
TZOFFSETTO:-0400
TZNAME:EDT
DTSTART:20240310T070000
END:DAYLIGHT
BEGIN:STANDARD
TZOFFSETFROM:-0400
TZOFFSETTO:-0500
TZNAME:EST
DTSTART:20241103T060000
END:STANDARD
BEGIN:DAYLIGHT
TZOFFSETFROM:-0500
TZOFFSETTO:-0400
TZNAME:EDT
DTSTART:20250309T070000
END:DAYLIGHT
BEGIN:STANDARD
TZOFFSETFROM:-0400
TZOFFSETTO:-0500
TZNAME:EST
DTSTART:20251102T060000
END:STANDARD
END:VTIMEZONE
BEGIN:VEVENT
DTSTART;TZID=America/Kentucky/Louisville:20240927T190000
DTEND;TZID=America/Kentucky/Louisville:20240927T210000
DTSTAMP:20260420T085501
CREATED:20240910T144528Z
LAST-MODIFIED:20240927T151656Z
UID:10000216-1727463600-1727470800@visitgrayson.com
SUMMARY:Grease- Alice Theatre
DESCRIPTION:
URL:https://visitgrayson.com/event/grease-alice-theatre/
LOCATION:The Alice Theatre\, 86 Public Square\, Leitchfield\, KY\, 42754\, United States
CATEGORIES:City,Tourism
ATTACH;FMTTYPE=image/jpeg:https://visitgrayson.com/wp-content/uploads/2024/09/greas-TFr0mC.tmp_.jpg
END:VEVENT
BEGIN:VEVENT
DTSTART;TZID=America/Kentucky/Louisville:20240927T190000
DTEND;TZID=America/Kentucky/Louisville:20240927T210000
DTSTAMP:20260420T085501
CREATED:20240917T144922Z
LAST-MODIFIED:20240927T151656Z
UID:10000220-1727463600-1727470800@visitgrayson.com
SUMMARY:Grease the Movie- Alice Theatre
DESCRIPTION:
URL:https://visitgrayson.com/event/grease-the-movie-alice-theatre/
LOCATION:The Alice Theatre\, 86 Public Square\, Leitchfield\, KY\, 42754\, United States
CATEGORIES:City,Tourism
ATTACH;FMTTYPE=image/png:https://visitgrayson.com/wp-content/uploads/2024/09/Screenshot-2024-09-16-154107-urtaap.tmp_.png
END:VEVENT
END:VCALENDAR